BEGIN:VCALENDAR
PRODID:-//eluceo/ical//2.0/EN
VERSION:2.0
CALSCALE:GREGORIAN
BEGIN:VEVENT
UID:acbd9142-51c8-47c0-909d-524d4311d8a6
DTSTAMP:20260424T142354Z
SUMMARY:Observatorio de Economía Global "Economía del área euro y polít
 ica monetaria en el contexto geopolítico actual"
URL:https://www.eoi.es/es/eventos/93852/observatorio-de-economia-global-eco
 nomia-del-area-euro-y-politica-monetaria-en-el-contexto-geopolitico-actual
DTSTART:20260511T080000Z
DTEND:20260511T090000Z
LOCATION:Híbrido (Presencial y online). Sede EOI Madrid. Avda. Gregorio de
 l Amo\, 6. 28040\, Madrid
END:VEVENT
END:VCALENDAR
