BEGIN:VCALENDAR
PRODID:-//eluceo/ical//2.0/EN
VERSION:2.0
CALSCALE:GREGORIAN
BEGIN:VEVENT
UID:3ecb5df7-33b2-4d77-8291-c4ec01a2810d
DTSTAMP:20260424T140547Z
SUMMARY:Taller “Comunicación de marca en la era de la IA” (Coworking C
 iudad Real)
URL:https://www.eoi.es/es/eventos/93850/taller-comunicacion-de-marca-en-la-
 era-de-la-ia-coworking-ciudad-real
DTSTART:20260427T150000Z
DTEND:20260427T190000Z
LOCATION:Salón de Actos de la Cámara de Comercio de Ciudad Real c/ Lanza\
 , 2 13004 Ciudad Real
END:VEVENT
END:VCALENDAR
