BEGIN:VCALENDAR
PRODID:-//eluceo/ical//2.0/EN
VERSION:2.0
CALSCALE:GREGORIAN
BEGIN:VEVENT
UID:0bf93c39-4dd6-4e1f-8681-9433fc024ab0
DTSTAMP:20260424T140547Z
SUMMARY:Taller “Aprender a emprender con LEGO” (Coworking Talavera)
URL:https://www.eoi.es/es/eventos/93849/taller-aprender-emprender-con-lego-
 coworking-talavera
DTSTART:20260428T140000Z
DTEND:20260428T180000Z
LOCATION:Cámara de Comercio de Toledo Plaza del Pan\, 11 45600 Talavera de
  la Reina Toledo
END:VEVENT
END:VCALENDAR
