BEGIN:VCALENDAR
PRODID:-//eluceo/ical//2.0/EN
VERSION:2.0
CALSCALE:GREGORIAN
BEGIN:VEVENT
UID:b7e6bb90-a2ae-4d99-aeff-ef7579e1c0c7
DTSTAMP:20260423T022615Z
SUMMARY:Taller “Lunes de Matchmaking” (Coworking Sevilla)
URL:https://www.eoi.es/es/eventos/93775/taller-lunes-de-matchmaking-coworki
 ng-sevilla
DTSTART:20260406T143000Z
DTEND:20260406T173000Z
LOCATION:Sede Sevilla. C/Leonardo da Vinci\, 12 41092 Isla de la Cartuja\, 
 Sevilla
END:VEVENT
END:VCALENDAR
