BEGIN:VCALENDAR
PRODID:-//eluceo/ical//2.0/EN
VERSION:2.0
CALSCALE:GREGORIAN
BEGIN:VEVENT
UID:4b99df6c-ac76-44f4-a3d0-3885e00c5a97
DTSTAMP:20260420T155124Z
SUMMARY:Jornada Informativa sobre ayudas Plan Estratégico de la PAC para E
 spaña
URL:https://www.eoi.es/es/eventos/93771/jornada-informativa-sobre-ayudas-pl
 an-estrategico-de-la-pac-para-espana
DTSTART:20260423T080000Z
DTEND:20260423T100000Z
LOCATION:Híbrido (presencial y online). Sede Ministerio de Agricultura\, P
 esca y Alimentación
END:VEVENT
END:VCALENDAR
