BEGIN:VCALENDAR
PRODID:-//eluceo/ical//2.0/EN
VERSION:2.0
CALSCALE:GREGORIAN
BEGIN:VEVENT
UID:fb4a5d29-0091-4254-b7fb-7a2ed763c18f
DTSTAMP:20260423T022614Z
SUMMARY:Jornada “Anticipar para ganar: Gestión proactiva del riesgo empr
 esarial” Organizada por CESUR
URL:https://www.eoi.es/es/eventos/93726/jornada-anticipar-para-ganar-gestio
 n-proactiva-del-riesgo-empresarial-organizada-por-cesur
DTSTART:20260326T110000Z
DTEND:20260326T130000Z
LOCATION:Presencial. Sede EOI Sevilla. C/ Leonardo da Vinci\, 12. Sevilla T
 echPark. Sevilla
END:VEVENT
END:VCALENDAR
