BEGIN:VCALENDAR
PRODID:-//eluceo/ical//2.0/EN
VERSION:2.0
CALSCALE:GREGORIAN
BEGIN:VEVENT
UID:109352cb-a21c-4ad1-9a00-7d10c0f50cf1
DTSTAMP:20260422T171442Z
SUMMARY:Webinar "Automatización y Robotización en el Sector Metal”
URL:https://www.eoi.es/es/eventos/93281/webinar-automatizacion-y-robotizaci
 on-en-el-sector-metal
DTSTART:20250716T100000Z
DTEND:20250716T110000Z
LOCATION:Online
END:VEVENT
END:VCALENDAR
