BEGIN:VCALENDAR
PRODID:-//eluceo/ical//2.0/EN
VERSION:2.0
CALSCALE:GREGORIAN
BEGIN:VEVENT
UID:3472fb15-001d-4484-adc1-5a60f7a5d1d7
DTSTAMP:20260420T084645Z
SUMMARY:Demoday Espacio Coworking EOI Linares” (Coworking Linares)
URL:https://www.eoi.es/es/eventos/93276/demoday-espacio-coworking-eoi-linar
 es-coworking-linares
DTSTART:20250710T150000Z
DTEND:20250710T165500Z
LOCATION:Casa de la Juventud\, Linares C. Federico Ramírez\, 6\, 23700 Lin
 ares\, Jaén
END:VEVENT
END:VCALENDAR
