BEGIN:VCALENDAR
PRODID:-//eluceo/ical//2.0/EN
VERSION:2.0
CALSCALE:GREGORIAN
BEGIN:VEVENT
UID:290a4423-30e2-484f-b4e9-854f9cf34e59
DTSTAMP:20260420T075043Z
SUMMARY:La Mujer en la Industria. II Edición
URL:https://www.eoi.es/es/eventos/93220/la-mujer-en-la-industria-ii-edicion
DTSTART:20250630T073000Z
DTEND:20250630T093000Z
LOCATION:Presencial. Campus EOI Madrid. Avda. Gregorio del Amo\, 6. 28040\,
  Madrid 
END:VEVENT
END:VCALENDAR
