BEGIN:VCALENDAR
PRODID:-//eluceo/ical//2.0/EN
VERSION:2.0
CALSCALE:GREGORIAN
BEGIN:VEVENT
UID:e7a5a747-1ab0-407a-b3c3-5ed9a572e60e
DTSTAMP:20260421T195411Z
SUMMARY:EU-FarmBook. El lugar para almacenar tus materiales con enfoque pr
 áctico
URL:https://www.eoi.es/es/eventos/92784/eu-farmbook-el-lugar-para-almacenar
 -tus-materiales-con-enfoque-practico
DTSTART:20241212T090000Z
DTEND:20241212T110000Z
LOCATION:Online
END:VEVENT
END:VCALENDAR
