BEGIN:VCALENDAR
PRODID:-//eluceo/ical//2.0/EN
VERSION:2.0
CALSCALE:GREGORIAN
BEGIN:VEVENT
UID:88032be0-3056-4b24-87fd-832345393165
DTSTAMP:20260424T120608Z
SUMMARY:Observatorio EOI "Hacia una UE más competitiva y resiliente: la au
 tonomía estratégica abierta" 
URL:https://www.eoi.es/es/eventos/91972/observatorio-eoi-hacia-una-ue-mas-c
 ompetitiva-y-resiliente-la-autonomia-estrategica-abierta
DTSTART:20231130T170000Z
DTEND:20231130T183000Z
LOCATION:HÍBRIDO. Campus EOI Madrid. Avda. Gregorio del Amo\, 6. 28040\, M
 adrid. 
END:VEVENT
END:VCALENDAR
