BEGIN:VCALENDAR
PRODID:-//eluceo/ical//2.0/EN
VERSION:2.0
CALSCALE:GREGORIAN
BEGIN:VEVENT
UID:848056e7-96f7-4269-ab08-1b2584f90fb6
DTSTAMP:20260423T102458Z
SUMMARY:Taller “Aspectos jurídicos a la hora de emprender” (Coworking 
 Puertollano)
URL:https://www.eoi.es/es/eventos/91533/taller-aspectos-juridicos-la-hora-d
 e-emprender-coworking-puertollano
DTSTART:20230529T140000Z
DTEND:20230529T180000Z
LOCATION:Biblioteca Municipal de Puertollano\, 2ª planta Calle Numancia 55
 \, Puertollano\, Ciudad Real
END:VEVENT
END:VCALENDAR
