BEGIN:VCALENDAR
PRODID:-//eluceo/ical//2.0/EN
VERSION:2.0
CALSCALE:GREGORIAN
BEGIN:VEVENT
UID:84248a67-72c9-4160-8b30-b080fb56b652
DTSTAMP:20260421T095030Z
SUMMARY:Taller de Marca para las empresas (Coworking Puertollano)
URL:https://www.eoi.es/es/eventos/91522/taller-de-marca-para-las-empresas-c
 oworking-puertollano
DTSTART:20230523T140000Z
DTEND:20230523T180000Z
LOCATION:Biblioteca Municipal de Puertollano\, 2ª planta Calle Numancia 55
 \, Puertollano\, Ciudad Real
END:VEVENT
END:VCALENDAR
