BEGIN:VCALENDAR
PRODID:-//eluceo/ical//2.0/EN
VERSION:2.0
CALSCALE:GREGORIAN
BEGIN:VEVENT
UID:e385b8e0-c032-4346-83e5-1bcd55dace54
DTSTAMP:20260421T095020Z
SUMMARY:Taller “Ayudas al emprendimiento” (Coworking Puertollano)
URL:https://www.eoi.es/es/eventos/91417/taller-ayudas-al-emprendimiento-cow
 orking-puertollano
DTSTART:20230502T150000Z
DTEND:20230502T180000Z
LOCATION:Biblioteca Municipal de Puertollano\, 2ª planta Calle Numancia 55
 \, Puertollano\, Ciudad Real
END:VEVENT
END:VCALENDAR
