BEGIN:VCALENDAR
PRODID:-//eluceo/ical//2.0/EN
VERSION:2.0
CALSCALE:GREGORIAN
BEGIN:VEVENT
UID:764eac05-e3a1-4155-a19c-6b463222411c
DTSTAMP:20260421T095020Z
SUMMARY:Taller “Modelos de negocio” (Coworking Puertollano)
URL:https://www.eoi.es/es/eventos/91366/taller-modelos-de-negocio-coworking
 -puertollano
DTSTART:20230424T140000Z
DTEND:20230424T180000Z
LOCATION:Biblioteca Municipal de Puertollano\, 2ª planta Calle Numancia 55
 \, Puertollano\, Ciudad Real
END:VEVENT
END:VCALENDAR
