BEGIN:VCALENDAR
PRODID:-//eluceo/ical//2.0/EN
VERSION:2.0
CALSCALE:GREGORIAN
BEGIN:VEVENT
UID:1df70d2d-f2bd-4dd1-8d05-caeced1735f9
DTSTAMP:20260425T132039Z
SUMMARY:Observatorio EOI "El sector industrial ante el shock energético y 
 el reto de la descarbonización"
URL:https://www.eoi.es/es/eventos/87330/observatorio-eoi-el-sector-industri
 al-ante-el-shock-energetico-y-el-reto-de-la-descarbonizacion
DTSTART:20221020T160000Z
DTEND:20221020T173000Z
LOCATION:Híbrido (presencial y online). Campus EOI Madrid. Avda. Gregorio 
 del Amo\, 6. 28040\, Madrid. 
END:VEVENT
END:VCALENDAR
