BEGIN:VCALENDAR
PRODID:-//eluceo/ical//2.0/EN
VERSION:2.0
CALSCALE:GREGORIAN
BEGIN:VEVENT
UID:4c07675c-a0cb-4488-941a-2a354a19b932
DTSTAMP:20260425T132039Z
SUMMARY:Observatorio EOI "La recuperación ante nuevas incertidumbres: Euro
 pa ante la invasión de Ucrania por Rusia"
URL:https://www.eoi.es/es/eventos/87267/observatorio-eoi-la-recuperacion-an
 te-nuevas-incertidumbres-europa-ante-la-invasion-de-ucrania-por-rusia
DTSTART:20220406T170000Z
DTEND:20220406T180000Z
LOCATION:Híbrido (presencial y online) 
END:VEVENT
END:VCALENDAR
