BEGIN:VCALENDAR
PRODID:-//eluceo/ical//2.0/EN
VERSION:2.0
CALSCALE:GREGORIAN
BEGIN:VEVENT
UID:bf377703-5106-42da-854c-d1f7c2015cd5
DTSTAMP:20260425T132138Z
SUMMARY:Observatorio EOI "La recuperación ante nuevas incertidumbres: la r
 espuesta de la política monetaria a la inflación"
URL:https://www.eoi.es/es/eventos/87260/observatorio-eoi-la-recuperacion-an
 te-nuevas-incertidumbres-la-respuesta-de-la-politica-monetaria-la-inflacio
 n
DTSTART:20220323T173000Z
DTEND:20220323T183000Z
LOCATION:Online 
END:VEVENT
END:VCALENDAR
