BEGIN:VCALENDAR
PRODID:-//eluceo/ical//2.0/EN
VERSION:2.0
CALSCALE:GREGORIAN
BEGIN:VEVENT
UID:68eb7cdf-bea4-452f-b4b2-8e5296e94420
DTSTAMP:20260420T182934Z
SUMMARY:Conferencia “Economía y mercados financieros en el mundo post Co
 vid. La inversión en 2022” (Sede EOI Andalucía)
URL:https://www.eoi.es/es/eventos/87259/conferencia-economia-y-mercados-fin
 ancieros-en-el-mundo-post-covid-la-inversion-en-2022-sede-eoi-andalucia
DTSTART:20220406T163000Z
DTEND:20220406T174500Z
LOCATION:Campus EOI Sevilla. C/ Leonardo da Vinci\, 12. Parque Científico 
 y Tecnológico Cartuja. Sevilla
END:VEVENT
END:VCALENDAR
