BEGIN:VCALENDAR
PRODID:-//eluceo/ical//2.0/EN
VERSION:2.0
CALSCALE:GREGORIAN
BEGIN:VEVENT
UID:f98c6a27-e21c-458a-93f6-2a3baf00458e
DTSTAMP:20260420T182934Z
SUMMARY:Taller "Cómo Formular un Plan Estratégico". Club EOI (Sede EOI An
 dalucía)
URL:https://www.eoi.es/es/eventos/87252/taller-como-formular-un-plan-estrat
 egico-club-eoi-sede-eoi-andalucia
DTSTART:20220329T140000Z
DTEND:20220329T180000Z
LOCATION:Campus EOI Sevilla. C/ Leonardo da Vinci\, 12. 41092 Isla de la Ca
 rtuja (Sevilla)
END:VEVENT
END:VCALENDAR
