BEGIN:VCALENDAR
PRODID:-//eluceo/ical//2.0/EN
VERSION:2.0
CALSCALE:GREGORIAN
BEGIN:VEVENT
UID:c91fa265-023f-484f-915d-8e6fb138bf67
DTSTAMP:20260422T221917Z
SUMMARY:Encuentro por Promoción: X Aniversario Master en Dirección de Emp
 resas Industriales 2010-2011
URL:https://www.eoi.es/es/eventos/87231/encuentro-por-promocion-x-aniversar
 io-master-en-direccion-de-empresas-industriales-2010-2011
DTSTART:20220325T140000Z
DTEND:20220325T160000Z
LOCATION:Campus EOI Madrid. Avda. Gregorio del Amo\, 6. 28040 Madrid
END:VEVENT
END:VCALENDAR
