BEGIN:VCALENDAR
PRODID:-//eluceo/ical//2.0/EN
VERSION:2.0
CALSCALE:GREGORIAN
BEGIN:VEVENT
UID:d4bbf5fb-d80d-4f0b-8787-7830e281a13f
DTSTAMP:20260422T221926Z
SUMMARY:Convocatoria de Asamblea General Ordinaria de la Asociación de Ant
 iguos Alumnos-Club EOI
URL:https://www.eoi.es/es/eventos/87229/convocatoria-de-asamblea-general-or
 dinaria-de-la-asociacion-de-antiguos-alumnos-club-eoi
DTSTART:20211220T150000Z
DTEND:20211220T170000Z
LOCATION:Campus EOI Madrid. Avda. Gregorio del Amo\, 6. 28040 Madrid
END:VEVENT
END:VCALENDAR
