BEGIN:VCALENDAR
PRODID:-//eluceo/ical//2.0/EN
VERSION:2.0
CALSCALE:GREGORIAN
BEGIN:VEVENT
UID:a6034f39-8eb8-4da7-ac57-830aabe6bb44
DTSTAMP:20260422T221925Z
SUMMARY:Descubre el Executive MBA - Sevilla 2022: “Dirección de RRHH”
URL:https://www.eoi.es/es/eventos/87222/descubre-el-executive-mba-sevilla-2
 022-direccion-de-rrhh
DTSTART:20220119T180000Z
DTEND:20220119T183000Z
LOCATION:Online
END:VEVENT
END:VCALENDAR
