BEGIN:VCALENDAR
PRODID:-//eluceo/ical//2.0/EN
VERSION:2.0
CALSCALE:GREGORIAN
BEGIN:VEVENT
UID:dafd7c9b-236c-4f0e-aea6-99d4680f231d
DTSTAMP:20260422T221916Z
SUMMARY:Descubre el Executive MBA - Sevilla 2022: “Dirección de Marketin
 g y Comercial”
URL:https://www.eoi.es/es/eventos/87221/descubre-el-executive-mba-sevilla-2
 022-direccion-de-marketing-y-comercial
DTSTART:20211217T180000Z
DTEND:20211217T183000Z
LOCATION:Online
END:VEVENT
END:VCALENDAR
