BEGIN:VCALENDAR
PRODID:-//eluceo/ical//2.0/EN
VERSION:2.0
CALSCALE:GREGORIAN
BEGIN:VEVENT
UID:1d7962d8-f5b0-4667-ba70-69e6e50b4691
DTSTAMP:20260422T221957Z
SUMMARY:Taller "Low Code - No Code" (Coworking Málaga)
URL:https://www.eoi.es/es/eventos/87218/taller-low-code-no-code-coworking-m
 alaga
DTSTART:20220113T090000Z
DTEND:20220113T130000Z
LOCATION:Polo de Contenidos Digitales- CW Málaga Avda. Sor Teresa Prat\, 1
 5. Málaga
END:VEVENT
END:VCALENDAR
