BEGIN:VCALENDAR
PRODID:-//eluceo/ical//2.0/EN
VERSION:2.0
CALSCALE:GREGORIAN
BEGIN:VEVENT
UID:695717e7-eefa-48af-805f-4db9ce849cab
DTSTAMP:20260423T174104Z
SUMMARY:Descubre el Executive MBA - Sevilla 2022: “Dirección Estratégic
 a” y “Estrategia Internacional de la Empresa”
URL:https://www.eoi.es/es/eventos/87217/descubre-el-executive-mba-sevilla-2
 022-direccion-estrategica-y-estrategia-internacional-de-la-empresa
DTSTART:20211117T180000Z
DTEND:20211117T182000Z
LOCATION:Online
END:VEVENT
END:VCALENDAR
