BEGIN:VCALENDAR
PRODID:-//eluceo/ical//2.0/EN
VERSION:2.0
CALSCALE:GREGORIAN
BEGIN:VEVENT
UID:22838f68-893b-4210-afef-c7d0155b035f
DTSTAMP:20260423T160529Z
SUMMARY:Descubre el Executive MBA - Sevilla 2022: “Competencias para el l
 iderazgo” [POSPUESTO]
URL:https://www.eoi.es/es/eventos/87216/descubre-el-executive-mba-sevilla-2
 022-competencias-para-el-liderazgo-pospuesto
DTSTART:20211109T180000Z
DTEND:20211109T182000Z
LOCATION:Online
END:VEVENT
END:VCALENDAR
