BEGIN:VCALENDAR
PRODID:-//eluceo/ical//2.0/EN
VERSION:2.0
CALSCALE:GREGORIAN
BEGIN:VEVENT
UID:6a9d0cbe-10c9-4010-9db3-2be8946a196a
DTSTAMP:20260423T203823Z
SUMMARY:Jornada “Oportunidades en el sector de la Logística y el Comerci
 o Electrónico. El papel de las Fuerzas Armadas como tractor de la industr
 ia logística”
URL:https://www.eoi.es/es/eventos/87211/jornada-oportunidades-en-el-sector-
 de-la-logistica-y-el-comercio-electronico-el-papel-de-las-fuerzas-armadas-
 como-tractor-de-la-industria-logistica
DTSTART:20211129T081000Z
DTEND:20211129T132000Z
LOCATION:Campus EOI Madrid. Avda. Gregorio del Amo\, 6. 28040\, Madrid. 
END:VEVENT
END:VCALENDAR
