BEGIN:VCALENDAR
PRODID:-//eluceo/ical//2.0/EN
VERSION:2.0
CALSCALE:GREGORIAN
BEGIN:VEVENT
UID:f1402f75-5472-4aeb-a85e-fdacef5050d3
DTSTAMP:20260423T160519Z
SUMMARY:Webinar “Smart Cities: la Transformación Digital de las ciudades
 ”
URL:https://www.eoi.es/es/eventos/87195/webinar-smart-cities-la-transformac
 ion-digital-de-las-ciudades
DTSTART:20211027T163000Z
DTEND:20211027T172000Z
LOCATION:Online
END:VEVENT
END:VCALENDAR
