BEGIN:VCALENDAR
PRODID:-//eluceo/ical//2.0/EN
VERSION:2.0
CALSCALE:GREGORIAN
BEGIN:VEVENT
UID:e5e3c616-4c4d-469a-a00a-19fd8396598a
DTSTAMP:20260422T221925Z
SUMMARY:Taller de Gamificación (Coworking Málaga)
URL:https://www.eoi.es/es/eventos/87194/taller-de-gamificacion-coworking-ma
 laga
DTSTART:20220120T090000Z
DTEND:20220120T130000Z
LOCATION:Polo de Contenidos Digitales- CW Málaga Avda. Sor Teresa Prat\, 1
 5. Málaga
END:VEVENT
END:VCALENDAR
