BEGIN:VCALENDAR
PRODID:-//eluceo/ical//2.0/EN
VERSION:2.0
CALSCALE:GREGORIAN
BEGIN:VEVENT
UID:b2fc6447-a82c-4e5f-8498-8e5fd710d59b
DTSTAMP:20260422T221916Z
SUMMARY:Taller “Técnicas de negociación para Startups” (Coworking Má
 laga)
URL:https://www.eoi.es/es/eventos/87193/taller-tecnicas-de-negociacion-para
 -startups-coworking-malaga
DTSTART:20211230T093000Z
DTEND:20211230T123000Z
LOCATION:CW Málaga. Polo de Contenidos Digitales Avda. Sor Teresa Prat\, 1
 5\, Málaga
END:VEVENT
END:VCALENDAR
