BEGIN:VCALENDAR
PRODID:-//eluceo/ical//2.0/EN
VERSION:2.0
CALSCALE:GREGORIAN
BEGIN:VEVENT
UID:a4bbffde-c856-479c-b3ae-d162c3c38141
DTSTAMP:20260420T200319Z
SUMMARY:Jornada "El futuro del empleo en la industria" (Online)
URL:https://www.eoi.es/es/eventos/87090/jornada-el-futuro-del-empleo-en-la-
 industria-online
DTSTART:20210223T093000Z
DTEND:20210223T113000Z
LOCATION:Online
END:VEVENT
END:VCALENDAR
