BEGIN:VCALENDAR
PRODID:-//eluceo/ical//2.0/EN
VERSION:2.0
CALSCALE:GREGORIAN
BEGIN:VEVENT
UID:a107e5f5-7f85-414c-92f2-c5c00a64a7de
DTSTAMP:20260420T161503Z
SUMMARY:Webinar "Seguridad\, infraestructura y la inteligencia de Google al
  servicio de los negocios con las soluciones de Google Cloud"
URL:https://www.eoi.es/es/eventos/87040/webinar-seguridad-infraestructura-y
 -la-inteligencia-de-google-al-servicio-de-los-negocios-con-las-soluciones-
 de-google-cloud
DTSTART:20201112T100000Z
DTEND:20201112T113000Z
LOCATION:Online
END:VEVENT
END:VCALENDAR
