BEGIN:VCALENDAR
PRODID:-//eluceo/ical//2.0/EN
VERSION:2.0
CALSCALE:GREGORIAN
BEGIN:VEVENT
UID:d994919f-12b3-4270-9676-80dab5bed3dc
DTSTAMP:20260419T163709Z
SUMMARY:Webinar "¿Cómo han sido las búsquedas de los usuarios en Interne
 t durante el confinamiento?" (Online)
URL:https://www.eoi.es/es/eventos/87008/webinar-como-han-sido-las-busquedas
 -de-los-usuarios-en-internet-durante-el-confinamiento-online
DTSTART:20200624T170000Z
DTEND:20200624T180000Z
LOCATION:Online
END:VEVENT
END:VCALENDAR
