BEGIN:VCALENDAR
PRODID:-//eluceo/ical//2.0/EN
VERSION:2.0
CALSCALE:GREGORIAN
BEGIN:VEVENT
UID:3b6b958b-858e-484d-8caa-f80a66bbc3a1
DTSTAMP:20260419T175015Z
SUMMARY:Webinar "Cómo reducir el Time to Market más del 25% en FMCG (Fast
  Moving Consumer Goods)" (Online)
URL:https://www.eoi.es/es/eventos/87005/webinar-como-reducir-el-time-market
 -mas-del-25-en-fmcg-fast-moving-consumer-goods-online
DTSTART:20200616T160000Z
DTEND:20200616T170000Z
LOCATION:Online
END:VEVENT
END:VCALENDAR
