BEGIN:VCALENDAR
PRODID:-//eluceo/ical//2.0/EN
VERSION:2.0
CALSCALE:GREGORIAN
BEGIN:VEVENT
UID:0f97b6fe-929e-4292-8296-5553a9aa07bc
DTSTAMP:20260419T180341Z
SUMMARY:El mercado de trabajo en España tras la crisis de la COVID-19: sit
 uación y retos (Online)
URL:https://www.eoi.es/es/eventos/86997/el-mercado-de-trabajo-en-espana-tra
 s-la-crisis-de-la-covid-19-situacion-y-retos-online
DTSTART:20200625T163000Z
DTEND:20200625T173000Z
LOCATION:Online
END:VEVENT
END:VCALENDAR
