BEGIN:VCALENDAR
PRODID:-//eluceo/ical//2.0/EN
VERSION:2.0
CALSCALE:GREGORIAN
BEGIN:VEVENT
UID:b5de39d6-58ac-4f81-a9e7-eb57a3c75b18
DTSTAMP:20260419T163703Z
SUMMARY:La empresa española: efectos y actuaciones\, el nuevo enfoque empr
 esarial (Online)
URL:https://www.eoi.es/es/eventos/86996/la-empresa-espanola-efectos-y-actua
 ciones-el-nuevo-enfoque-empresarial-online
DTSTART:20200618T163000Z
DTEND:20200618T173000Z
LOCATION:Online
END:VEVENT
END:VCALENDAR
