BEGIN:VCALENDAR
PRODID:-//eluceo/ical//2.0/EN
VERSION:2.0
CALSCALE:GREGORIAN
BEGIN:VEVENT
UID:ab73253e-d99b-47c8-a79b-a7f0931a21ca
DTSTAMP:20260421T103706Z
SUMMARY:Webinar "Vuelta a la “normalidad”: ¿Qué habilidades serán ne
 cesarias?" (Online)
URL:https://www.eoi.es/es/eventos/86990/webinar-vuelta-la-normalidad-que-ha
 bilidades-seran-necesarias-online
DTSTART:20200508T163000Z
DTEND:20200508T173000Z
LOCATION:Online
END:VEVENT
END:VCALENDAR
