BEGIN:VCALENDAR
PRODID:-//eluceo/ical//2.0/EN
VERSION:2.0
CALSCALE:GREGORIAN
BEGIN:VEVENT
UID:a28fecef-cb32-45b4-9595-59463eb866ee
DTSTAMP:20260421T103729Z
SUMMARY:Webinar "La aportación de RPA y la automatización inteligente ant
 e una crisis" (Online)
URL:https://www.eoi.es/es/eventos/86989/webinar-la-aportacion-de-rpa-y-la-a
 utomatizacion-inteligente-ante-una-crisis-online
DTSTART:20200504T163000Z
DTEND:20200504T173000Z
LOCATION:Online
END:VEVENT
END:VCALENDAR
