BEGIN:VCALENDAR
PRODID:-//eluceo/ical//2.0/EN
VERSION:2.0
CALSCALE:GREGORIAN
BEGIN:VEVENT
UID:acc78ef7-df6e-4b7a-a0de-084e7a604b3f
DTSTAMP:20260421T103747Z
SUMMARY:Globalización y comercio internacional tras la pandemia (Online)
URL:https://www.eoi.es/es/eventos/86987/globalizacion-y-comercio-internacio
 nal-tras-la-pandemia-online
DTSTART:20200514T163000Z
DTEND:20200514T173000Z
LOCATION:Online
END:VEVENT
END:VCALENDAR
