BEGIN:VCALENDAR
PRODID:-//eluceo/ical//2.0/EN
VERSION:2.0
CALSCALE:GREGORIAN
BEGIN:VEVENT
UID:a8d1cfc8-18fe-40a2-99fb-2d25f4822634
DTSTAMP:20260421T103729Z
SUMMARY:Webinar "Responsabilidad corporativa y cooperativa para un futuro i
 ncierto" (Online)
URL:https://www.eoi.es/es/eventos/86985/webinar-responsabilidad-corporativa
 -y-cooperativa-para-un-futuro-incierto-online
DTSTART:20200506T163000Z
DTEND:20200506T173000Z
LOCATION:Online
END:VEVENT
END:VCALENDAR
