BEGIN:VCALENDAR
PRODID:-//eluceo/ical//2.0/EN
VERSION:2.0
CALSCALE:GREGORIAN
BEGIN:VEVENT
UID:b89236cb-fd8a-4bd9-a508-3d3335da0047
DTSTAMP:20260421T103729Z
SUMMARY:Webinar "Gestión de riesgos en proyectos: los cisnes negros" (Onli
 ne)
URL:https://www.eoi.es/es/eventos/86964/webinar-gestion-de-riesgos-en-proye
 ctos-los-cisnes-negros-online
DTSTART:20200415T163000Z
DTEND:20200415T173000Z
LOCATION:Online
END:VEVENT
END:VCALENDAR
