BEGIN:VCALENDAR
PRODID:-//eluceo/ical//2.0/EN
VERSION:2.0
CALSCALE:GREGORIAN
BEGIN:VEVENT
UID:69923340-6ab1-485c-af3b-52d0828fd68f
DTSTAMP:20260421T090528Z
SUMMARY:Webinar "Autoconfianza\, primer elemento crítico para la gestión"
  (Online)
URL:https://www.eoi.es/es/eventos/86962/webinar-autoconfianza-primer-elemen
 to-critico-para-la-gestion-online
DTSTART:20200414T163000Z
DTEND:20200414T173000Z
LOCATION:Online
END:VEVENT
END:VCALENDAR
