BEGIN:VCALENDAR
PRODID:-//eluceo/ical//2.0/EN
VERSION:2.0
CALSCALE:GREGORIAN
BEGIN:VEVENT
UID:51f51973-aeec-40b8-aa5f-d1bccc65431f
DTSTAMP:20260421T124336Z
SUMMARY:Taller “Ayudas y subvenciones. Primeros pasos para emprender” (
 Coworking Guadalajara)
URL:https://www.eoi.es/es/eventos/86939/taller-ayudas-y-subvenciones-primer
 os-pasos-para-emprender-coworking-guadalajara
DTSTART:20200302T083000Z
DTEND:20200302T123000Z
LOCATION:Fundación CEEI Guadalajara Avd. de Buendía\, Nº 11 Guadalajara
END:VEVENT
END:VCALENDAR
