BEGIN:VCALENDAR
PRODID:-//eluceo/ical//2.0/EN
VERSION:2.0
CALSCALE:GREGORIAN
BEGIN:VEVENT
UID:1ce7e2a4-0a00-4465-84c8-7e9807a3ae02
DTSTAMP:20260424T210128Z
SUMMARY:Presentación del libro "Políticas industriales en España: pasado
 \, presente y futuro"
URL:https://www.eoi.es/es/eventos/86932/presentacion-del-libro-politicas-in
 dustriales-en-espana-pasado-presente-y-futuro
DTSTART:20200302T180000Z
DTEND:20200302T193000Z
LOCATION:Campus EOI Madrid 
END:VEVENT
END:VCALENDAR
