BEGIN:VCALENDAR
PRODID:-//eluceo/ical//2.0/EN
VERSION:2.0
CALSCALE:GREGORIAN
BEGIN:VEVENT
UID:06844ec1-cc25-4c19-ab39-df7de5339a1b
DTSTAMP:20260424T160550Z
SUMMARY:Open Day Postgrado (Online)
URL:https://www.eoi.es/es/eventos/86921/open-day-postgrado-online
DTSTART:20200625T090000Z
DTEND:20200625T103000Z
LOCATION:Online
END:VEVENT
END:VCALENDAR
