BEGIN:VCALENDAR
PRODID:-//eluceo/ical//2.0/EN
VERSION:2.0
CALSCALE:GREGORIAN
BEGIN:VEVENT
UID:8066545c-5a34-484a-a9df-4c1768d7f816
DTSTAMP:20260420T052358Z
SUMMARY:Encuentro Anual Antiguos Alumnos EOI
URL:https://www.eoi.es/es/eventos/86823/encuentro-anual-antiguos-alumnos-eo
 i
DTSTART:20200206T183000Z
DTEND:20200206T210000Z
LOCATION:Auditorio de la Fundación Pablo VI. Paseo de Juan XXIII\, 3\, 280
 40 Madrid
END:VEVENT
END:VCALENDAR
