BEGIN:VCALENDAR
PRODID:-//eluceo/ical//2.0/EN
VERSION:2.0
CALSCALE:GREGORIAN
BEGIN:VEVENT
UID:7bf2893e-1e46-41e1-8dc9-67b5c78dbdf4
DTSTAMP:20260419T134653Z
SUMMARY:7ª sesión Club Blockchain EOI: “Construcción colaborativa: BIM
  & Blockchain”
URL:https://www.eoi.es/es/eventos/86800/7a-sesion-club-blockchain-eoi-const
 ruccion-colaborativa-bim-blockchain
DTSTART:20191024T173000Z
DTEND:20191024T183500Z
LOCATION:Campus EOI Madrid 
END:VEVENT
END:VCALENDAR
