BEGIN:VCALENDAR
PRODID:-//eluceo/ical//2.0/EN
VERSION:2.0
CALSCALE:GREGORIAN
BEGIN:VEVENT
UID:4bf302a4-c00e-4af1-ad6e-6ab981ad9430
DTSTAMP:20260421T103706Z
SUMMARY:12ª Sesión Observatorio EOI de Economía Global. El Brexit: probl
 emas e incertidumbres
URL:https://www.eoi.es/es/eventos/86765/12a-sesion-observatorio-eoi-de-econ
 omia-global-el-brexit-problemas-e-incertidumbres
DTSTART:20191017T170000Z
DTEND:20191017T183000Z
LOCATION:Campus EOI Madrid. Avda. Gregorio del Amo\, 6. 28040 Madrid
END:VEVENT
END:VCALENDAR
