BEGIN:VCALENDAR
PRODID:-//eluceo/ical//2.0/EN
VERSION:2.0
CALSCALE:GREGORIAN
BEGIN:VEVENT
UID:2b4928a6-9bd3-405f-9211-490a2b150f72
DTSTAMP:20260419T162537Z
SUMMARY:I Encuentro Anual Club Coaching EOI: “Diálogo para la Transforma
 ción de las Organizaciones”
URL:https://www.eoi.es/es/eventos/86710/i-encuentro-anual-club-coaching-eoi
 -dialogo-para-la-transformacion-de-las-organizaciones
DTSTART:20190620T163000Z
DTEND:20190620T183000Z
LOCATION:Campus EOI Madrid. Avda. Gregorio del Amo\, 6. 28040 Madrid
END:VEVENT
END:VCALENDAR
